BEGIN:VCALENDAR
PRODID:-//Events Calendar//iCal4j 1.0//EN
CALSCALE:GREGORIAN
BEGIN:VEVENT
DTSTAMP:20260422T100912Z
DTSTART:20260517T100000
DTEND:20260517T140000
SUMMARY:Garagesale Klingbemden
TZID:Europe/Brussels
UID:20260422T100912Z-uidGen@fe80:0:0:0:3c4b:e1ff:fe04:9bb1%eth0
DESCRIPTION:Kom op zondag 17 mei naar de jaarlijkse garagesale in Klingbemden! Van 10.00 tot 14.00 uur doen circa 30 deelnemers mee.
LOCATION:Klingbemden
END:VEVENT
END:VCALENDAR
