BEGIN:VCALENDAR
PRODID:-//Events Calendar//iCal4j 1.0//EN
CALSCALE:GREGORIAN
BEGIN:VEVENT
DTSTAMP:20260422T095708Z
DTSTART:20260523T130000
DTEND:20260523T170000
SUMMARY:Bloaze vuur KIKA
TZID:Europe/Brussels
UID:20260422T095708Z-uidGen@fe80:0:0:0:3431:baff:fec1:d65b%eth0
DESCRIPTION:Blaas muziek evenement ten bate van KIKA\nDiverse muziekgezelschappen zullen Pinksterzaterdag 23 mei het centrum van Brunssum vullen met blaasmuziek\n
LOCATION:Centrum Brunssum
END:VEVENT
END:VCALENDAR
