BEGIN:VCALENDAR
PRODID:-//Events Calendar//iCal4j 1.0//EN
CALSCALE:GREGORIAN
BEGIN:VEVENT
DTSTAMP:20260422T113553Z
DTSTART:20260508T193000
DTEND:20260508T223000
SUMMARY:Filmvoorstelling: Stoffig Licht 
TZID:Europe/Brussels
UID:20260422T113553Z-uidGen@fe80:0:0:0:3c4b:e1ff:fe04:9bb1%eth0
DESCRIPTION:Vijverpark Een film over migratie\, hoop en teleurstelling
LOCATION:Openluchttheater\, Vijverpark 
END:VEVENT
END:VCALENDAR
