BEGIN:VCALENDAR
PRODID:-//Events Calendar//iCal4j 1.0//EN
CALSCALE:GREGORIAN
BEGIN:VEVENT
DTSTAMP:20260425T130639Z
DTSTART:20260427T100000
DTEND:20260427T130000
SUMMARY:Oranjefeesten Langeberg
TZID:Europe/Brussels
UID:20260425T130639Z-uidGen@fe80:0:0:0:3431:baff:fec1:d65b%eth0
DESCRIPTION:Het Oranje Comité Langeberg nodigt iedereen uit voor een feestelijke Koningsdagviering op 27 april 2026! Trek je mooiste oranje outfit aan en doe mee aan een dag vol plezier voor jong en oud.
LOCATION:Langeberg\, Brunssum
END:VEVENT
END:VCALENDAR
