BEGIN:VCALENDAR
PRODID:-//Events Calendar//iCal4j 1.0//EN
CALSCALE:GREGORIAN
BEGIN:VEVENT
DTSTAMP:20260422T090437Z
DTSTART:20260427T090000
DTEND:20260427T170000
SUMMARY:Oranjebraderie & Kindervrijmarkt 2026
TZID:Europe/Brussels
UID:20260422T090437Z-uidGen@fe80:0:0:0:3431:baff:fec1:d65b%eth0
DESCRIPTION:De Oranjebraderie is al jaren dé toonaangevende braderie van Brunssum en omgeving en ook in 2026 belooft het weer een groot feest te worden! 
LOCATION:Rumpenerstraat\, Lindeplein\, Kerkstraat
END:VEVENT
END:VCALENDAR
